BEGIN:VCALENDAR
VERSION:2.0
PRODID:-//https://francomirabelli.info/francomirabelli.it///NONSGML kigkonsult.se iCalcreator 2.10.15//
METHOD:PUBLISH
BEGIN:VEVENT
UID:20260426T004707UTC-21196VWH2u@https://francomirabelli.info/francomirabe
 lli.it/
DTSTAMP:20260426T004707Z
DESCRIPTION:Martedì 28 aprile alle ore 18.00 presso la Casa della Memoria\,
  in Via Confalonieri 14 a Milano\, alla presentazione del libro 'Mafia a M
 ilano e in Lombardia' di Giampiero Rossi\, Mario Portanova e Franco Stefan
 oni. https://francomirabelli.info/francomirabelli.it/dove-incontrarci-agen
 da-km-0/Eventi/165-presentazione-del-libro-mafia-a-milano-e-in-lombardia.h
 tml
DTSTART:20260428T180000Z
DTEND:20260428T200000Z
LOCATION:Casa della Memoria\, in Via Confalonieri 14 a Milano (Via Confalon
 ieri 14\, Milano)
SUMMARY:Presentazione del libro 'Mafia a Milano e in Lombardia'
URL:https://francomirabelli.info/francomirabelli.it/dove-incontrarci-agenda
 -km-0/Eventi/165-presentazione-del-libro-mafia-a-milano-e-in-lombardia.htm
 l
END:VEVENT
END:VCALENDAR
